Package: variancePartition Version: 1.39.3 Command: /home/biocbuild/R/R/bin/R CMD check --install=check:variancePartition.install-out.txt --library=/home/biocbuild/R/R/site-library --no-vignettes --timings variancePartition_1.39.3.tar.gz StartedAt: 2025-09-30 14:33:33 -0000 (Tue, 30 Sep 2025) EndedAt: 2025-09-30 14:45:18 -0000 (Tue, 30 Sep 2025) EllapsedTime: 704.5 seconds RetCode: 0 Status: OK CheckDir: variancePartition.Rcheck Warnings: 0