############################################################################## ############################################################################## ### ### Running command: ### ### /home/biocbuild/R/R/bin/R CMD check --install=check:variancePartition.install-out.txt --library=/home/biocbuild/R/R/site-library --no-vignettes --timings variancePartition_1.39.3.tar.gz ### ############################################################################## ############################################################################## * using log directory ‘/home/biocbuild/bbs-3.22-bioc/meat/variancePartition.Rcheck’ * using R version 4.5.0 (2025-04-11) * using platform: aarch64-unknown-linux-gnu * R was compiled by aarch64-unknown-linux-gnu-gcc (GCC) 14.2.0 GNU Fortran (GCC) 14.2.0 * running under: openEuler 24.03 (LTS) * using session charset: UTF-8 * using option ‘--no-vignettes’ * checking for file ‘variancePartition/DESCRIPTION’ ... OK * checking extension type ... Package * this is package ‘variancePartition’ version ‘1.39.3’ * package encoding: UTF-8 * checking package namespace information ... OK * checking package dependencies ... OK * checking if this is a source package ... OK * checking if there is a namespace ... OK * checking for hidden files and directories ... OK * checking for portable file names ... OK * checking for sufficient/correct file permissions ... OK * checking whether package ‘variancePartition’ can be installed ... OK * checking installed package size ... OK * checking package directory ... OK * checking ‘build’ directory ... OK * checking DESCRIPTION meta-information ... OK * checking top-level files ... OK * checking for left-over files ... OK * checking index information ... OK * checking package subdirectories ... OK * checking code files for non-ASCII characters ... OK * checking R files for syntax errors ... OK * checking whether the package can be loaded ... OK * checking whether the package can be loaded with stated dependencies ... OK * checking whether the package can be unloaded cleanly ... OK * checking whether the namespace can be loaded with stated dependencies ... OK * checking whether the namespace can be unloaded cleanly ... OK * checking loading without being on the library search path ... OK * checking dependencies in R code ... NOTE Unexported object imported by a ':::' call: ‘lmerTest:::as_lmerModLT’ See the note in ?`:::` about the use of this operator. * checking S3 generic/method consistency ... OK * checking replacement functions ... OK * checking foreign function calls ... OK * checking R code for possible problems ... OK * checking Rd files ... OK * checking Rd metadata ... OK * checking Rd cross-references ... OK * checking for missing documentation entries ... OK * checking for code/documentation mismatches ... OK * checking Rd \usage sections ... NOTE S3 methods shown with full name in Rd file 'residuals.MArrayLM2.Rd': ‘residuals.MArrayLM2’ The \usage entries for S3 methods should use the \method markup and not their full name. See chapter ‘Writing R documentation files’ in the ‘Writing R Extensions’ manual. * checking Rd contents ... OK * checking for unstated dependencies in examples ... OK * checking contents of ‘data’ directory ... OK * checking data for non-ASCII characters ... OK * checking data for ASCII and uncompressed saves ... OK * checking files in ‘vignettes’ ... NOTE The following directory looks like a leftover from 'knitr': ‘figure’ Please remove from your package. * checking examples ... OK Examples with CPU (user + system) or elapsed time > 5s user system elapsed fitVarPartModel-method 41.371 0.092 41.585 fitExtractVarPartModel-method 32.970 0.204 33.273 getTreat-method 28.842 0.055 28.988 plotCompareP-method 22.251 0.004 22.325 extractVarPart 20.958 0.143 21.167 varPartConfInf 13.194 0.000 13.231 plotPercentBars-method 10.850 0.028 10.910 sortCols-method 10.464 0.028 10.523 plotVarPart-method 10.160 0.000 10.191 residuals-VarParFitList-method 9.521 0.004 9.554 mvTest-method 7.668 0.016 16.468 dream-method 4.714 0.080 11.423 * checking for unstated dependencies in ‘tests’ ... OK * checking tests ... Running ‘runTests.R’ OK * checking for unstated dependencies in vignettes ... OK * checking package vignettes ... OK * checking running R code from vignettes ... SKIPPED * checking re-building of vignette outputs ... SKIPPED * checking PDF version of manual ... OK * DONE Status: 3 NOTEs See ‘/home/biocbuild/bbs-3.22-bioc/meat/variancePartition.Rcheck/00check.log’ for details.