Package: universalmotif Version: 1.27.4 Command: /home/biocbuild/bbs-3.22-bioc/R/bin/R CMD INSTALL universalmotif StartedAt: 2025-10-24 15:27:04 -0400 (Fri, 24 Oct 2025) EndedAt: 2025-10-24 15:28:49 -0400 (Fri, 24 Oct 2025) EllapsedTime: 105.7 seconds RetCode: 0 Status: OK