Package: universalmotif Version: 1.27.4 Command: /home/biocbuild/bbs-3.22-bioc/R/bin/R CMD build --keep-empty-dirs --no-resave-data --md5 universalmotif StartedAt: 2025-10-24 20:47:26 -0400 (Fri, 24 Oct 2025) EndedAt: 2025-10-24 20:51:33 -0400 (Fri, 24 Oct 2025) EllapsedTime: 247.2 seconds RetCode: 0 Status: OK PackageFile: universalmotif_1.27.4.tar.gz PackageFileSize: 3.549 MiB