Package: unifiedWMWqPCR Version: 1.45.0 Command: /home/biocbuild/R/R/bin/R CMD INSTALL unifiedWMWqPCR StartedAt: 2025-10-20 20:23:30 -0000 (Mon, 20 Oct 2025) EndedAt: 2025-10-20 20:23:38 -0000 (Mon, 20 Oct 2025) EllapsedTime: 8.2 seconds RetCode: 0 Status: OK