Package: unifiedWMWqPCR Version: 1.45.0 Command: /home/biocbuild/R/R/bin/R CMD check --install=check:unifiedWMWqPCR.install-out.txt --library=/home/biocbuild/R/R/site-library --no-vignettes --timings unifiedWMWqPCR_1.45.0.tar.gz StartedAt: 2025-10-17 14:47:45 -0000 (Fri, 17 Oct 2025) EndedAt: 2025-10-17 14:48:22 -0000 (Fri, 17 Oct 2025) EllapsedTime: 36.0 seconds RetCode: 0 Status: OK CheckDir: unifiedWMWqPCR.Rcheck Warnings: 0