Package: unifiedWMWqPCR Version: 1.45.0 Command: /Library/Frameworks/R.framework/Resources/bin/R CMD check --install=check:unifiedWMWqPCR.install-out.txt --library=/Library/Frameworks/R.framework/Resources/library --no-vignettes --timings unifiedWMWqPCR_1.45.0.tar.gz StartedAt: 2025-10-20 02:29:42 -0400 (Mon, 20 Oct 2025) EndedAt: 2025-10-20 02:30:28 -0400 (Mon, 20 Oct 2025) EllapsedTime: 46.5 seconds RetCode: 0 Status: OK CheckDir: unifiedWMWqPCR.Rcheck Warnings: 0