Package: uncoverappLib Version: 1.19.0 Command: /home/biocbuild/R/R/bin/R CMD INSTALL uncoverappLib StartedAt: 2025-10-16 22:25:55 -0000 (Thu, 16 Oct 2025) EndedAt: 2025-10-16 22:27:12 -0000 (Thu, 16 Oct 2025) EllapsedTime: 77.3 seconds RetCode: 0 Status: OK