Package: uncoverappLib Version: 1.19.0 Command: /Library/Frameworks/R.framework/Resources/bin/R CMD INSTALL uncoverappLib StartedAt: 2025-10-19 15:52:35 -0400 (Sun, 19 Oct 2025) EndedAt: 2025-10-19 15:53:56 -0400 (Sun, 19 Oct 2025) EllapsedTime: 81.4 seconds RetCode: 0 Status: OK