Package: uncoverappLib Version: 1.19.0 Command: /Library/Frameworks/R.framework/Resources/bin/R CMD check --install=check:uncoverappLib.install-out.txt --library=/Library/Frameworks/R.framework/Resources/library --no-vignettes --timings uncoverappLib_1.19.0.tar.gz StartedAt: 2025-10-20 02:29:27 -0400 (Mon, 20 Oct 2025) EndedAt: 2025-10-20 02:37:03 -0400 (Mon, 20 Oct 2025) EllapsedTime: 455.9 seconds RetCode: 0 Status: OK CheckDir: uncoverappLib.Rcheck Warnings: 0