Package: uncoverappLib Version: 1.19.0 Command: rm -rf uncoverappLib.buildbin-libdir && mkdir uncoverappLib.buildbin-libdir && /Users/biocbuild/BBS/utils/build-universal.sh uncoverappLib_1.19.0.tar.gz /Library/Frameworks/R.framework/Resources/bin/R uncoverappLib.buildbin-libdir StartedAt: 2025-10-20 03:39:44 -0400 (Mon, 20 Oct 2025) EndedAt: 2025-10-20 03:41:09 -0400 (Mon, 20 Oct 2025) EllapsedTime: 85.0 seconds RetCode: 0 Status: OK PackageFile: uncoverappLib_1.19.0.tgz PackageFileSize: 2.832 MiB