Package: uSORT Version: 1.35.0 Command: rm -rf uSORT.buildbin-libdir && mkdir uSORT.buildbin-libdir && F:\biocbuild\bbs-3.22-bioc\R\bin\R.exe CMD INSTALL --build --library=uSORT.buildbin-libdir uSORT_1.35.0.tar.gz StartedAt: 2025-08-15 11:33:53 -0400 (Fri, 15 Aug 2025) EndedAt: 2025-08-15 11:34:33 -0400 (Fri, 15 Aug 2025) EllapsedTime: 39.7 seconds RetCode: 0 Status: OK PackageFile: uSORT_1.35.0.zip PackageFileSize: 1.967 MiB