Package: uSORT Version: 1.35.0 Command: rm -rf uSORT.buildbin-libdir && mkdir uSORT.buildbin-libdir && /Users/biocbuild/BBS/utils/build-universal.sh uSORT_1.35.0.tar.gz /Library/Frameworks/R.framework/Resources/bin/R uSORT.buildbin-libdir StartedAt: 2025-10-04 02:35:50 -0400 (Sat, 04 Oct 2025) EndedAt: 2025-10-04 02:36:32 -0400 (Sat, 04 Oct 2025) EllapsedTime: 42.8 seconds RetCode: 0 Status: OK PackageFile: uSORT_1.35.0.tgz PackageFileSize: 1.973 MiB