Package: uSORT Version: 1.35.0 Command: /Library/Frameworks/R.framework/Resources/bin/R CMD build --keep-empty-dirs --no-resave-data uSORT StartedAt: 2025-10-08 18:07:29 -0400 (Wed, 08 Oct 2025) EndedAt: 2025-10-08 18:07:46 -0400 (Wed, 08 Oct 2025) EllapsedTime: 17.2 seconds RetCode: 0 Status: OK PackageFile: uSORT_1.35.0.tar.gz PackageFileSize: 2.814 MiB