Package: uSORT Version: 1.35.0 Command: rm -rf uSORT.buildbin-libdir && mkdir uSORT.buildbin-libdir && /Users/biocbuild/BBS/utils/build-universal.sh uSORT_1.35.0.tar.gz /Library/Frameworks/R.framework/Resources/bin/R uSORT.buildbin-libdir StartedAt: 2025-10-08 23:07:51 -0400 (Wed, 08 Oct 2025) EndedAt: 2025-10-08 23:08:07 -0400 (Wed, 08 Oct 2025) EllapsedTime: 16.3 seconds RetCode: 0 Status: OK PackageFile: uSORT_1.35.0.tgz PackageFileSize: 1.975 MiB