Package: tximport Version: 1.38.1 Command: /home/biocbuild/R/R/bin/R CMD INSTALL tximport StartedAt: 2025-11-20 21:45:34 -0000 (Thu, 20 Nov 2025) EndedAt: 2025-11-20 21:45:45 -0000 (Thu, 20 Nov 2025) EllapsedTime: 10.4 seconds RetCode: 0 Status: OK