Package: tximport Version: 1.38.1 Command: /home/biocbuild/R/R/bin/R CMD check --install=check:tximport.install-out.txt --library=/home/biocbuild/R/R/site-library --no-vignettes --timings tximport_1.38.1.tar.gz StartedAt: 2025-11-18 16:17:28 -0000 (Tue, 18 Nov 2025) EndedAt: 2025-11-18 16:19:39 -0000 (Tue, 18 Nov 2025) EllapsedTime: 131.3 seconds RetCode: 0 Status: OK CheckDir: tximport.Rcheck Warnings: 0