Package: tximport Version: 1.38.1 Command: /home/biocbuild/R/R/bin/R CMD build --keep-empty-dirs --no-resave-data tximport StartedAt: 2025-11-21 06:42:17 -0000 (Fri, 21 Nov 2025) EndedAt: 2025-11-21 06:43:35 -0000 (Fri, 21 Nov 2025) EllapsedTime: 78.0 seconds RetCode: 0 Status: OK PackageFile: tximport_1.38.1.tar.gz PackageFileSize: 377.2 KiB