Package: tximeta Version: 1.28.0 Command: /Library/Frameworks/R.framework/Resources/bin/R CMD INSTALL tximeta StartedAt: 2025-10-31 15:46:53 -0400 (Fri, 31 Oct 2025) EndedAt: 2025-10-31 15:47:47 -0400 (Fri, 31 Oct 2025) EllapsedTime: 54.1 seconds RetCode: 0 Status: OK