Package: tximeta Version: 1.27.12 Command: /Library/Frameworks/R.framework/Resources/bin/R CMD INSTALL tximeta StartedAt: 2025-10-03 15:23:12 -0400 (Fri, 03 Oct 2025) EndedAt: 2025-10-03 15:23:28 -0400 (Fri, 03 Oct 2025) EllapsedTime: 16.4 seconds RetCode: 0 Status: OK