Package: tximeta Version: 1.27.12 Command: rm -rf tximeta.buildbin-libdir && mkdir tximeta.buildbin-libdir && /Users/biocbuild/BBS/utils/build-universal.sh tximeta_1.27.12.tar.gz /Library/Frameworks/R.framework/Resources/bin/R tximeta.buildbin-libdir StartedAt: 2025-10-03 22:59:29 -0400 (Fri, 03 Oct 2025) EndedAt: 2025-10-03 22:59:47 -0400 (Fri, 03 Oct 2025) EllapsedTime: 17.3 seconds RetCode: 0 Status: OK PackageFile: tximeta_1.27.12.tgz PackageFileSize: 1.144 MiB