Package: txdbmaker Version: 1.5.6 Command: rm -rf txdbmaker.buildbin-libdir && mkdir txdbmaker.buildbin-libdir && F:\biocbuild\bbs-3.22-bioc\R\bin\R.exe CMD INSTALL --build --library=txdbmaker.buildbin-libdir txdbmaker_1.5.6.tar.gz StartedAt: 2025-08-15 11:33:21 -0400 (Fri, 15 Aug 2025) EndedAt: 2025-08-15 11:34:48 -0400 (Fri, 15 Aug 2025) EllapsedTime: 86.7 seconds RetCode: 0 Status: OK PackageFile: txdbmaker_1.5.6.zip PackageFileSize: 1.246 MiB