Package: txdbmaker Version: 1.6.0 Command: /Library/Frameworks/R.framework/Resources/bin/R CMD INSTALL txdbmaker StartedAt: 2025-10-31 15:24:02 -0400 (Fri, 31 Oct 2025) EndedAt: 2025-10-31 15:24:18 -0400 (Fri, 31 Oct 2025) EllapsedTime: 16.0 seconds RetCode: 0 Status: OK