Package: txdbmaker Version: 1.6.0 Command: /Library/Frameworks/R.framework/Resources/bin/R CMD build --keep-empty-dirs --no-resave-data txdbmaker StartedAt: 2025-10-31 18:07:25 -0400 (Fri, 31 Oct 2025) EndedAt: 2025-10-31 18:08:06 -0400 (Fri, 31 Oct 2025) EllapsedTime: 41.5 seconds RetCode: 0 Status: OK PackageFile: txdbmaker_1.6.0.tar.gz PackageFileSize: 1010 KiB