Package: txcutr Version: 1.16.0 Command: /home/biocbuild/R/R/bin/R CMD check --install=check:txcutr.install-out.txt --library=/home/biocbuild/R/R/site-library --no-vignettes --timings txcutr_1.16.0.tar.gz StartedAt: 2025-11-14 16:08:30 -0000 (Fri, 14 Nov 2025) EndedAt: 2025-11-14 16:18:07 -0000 (Fri, 14 Nov 2025) EllapsedTime: 576.7 seconds RetCode: 0 Status: OK CheckDir: txcutr.Rcheck Warnings: 0