Package: twilight Version: 1.85.0 Command: /home/biocbuild/bbs-3.22-bioc/R/bin/R CMD check --install=check:twilight.install-out.txt --library=/home/biocbuild/bbs-3.22-bioc/R/site-library --timings twilight_1.85.0.tar.gz StartedAt: 2025-10-28 05:11:16 -0400 (Tue, 28 Oct 2025) EndedAt: 2025-10-28 05:12:47 -0400 (Tue, 28 Oct 2025) EllapsedTime: 91.1 seconds RetCode: 0 Status: OK CheckDir: twilight.Rcheck Warnings: 0