Package: tweeDEseq Version: 1.55.0 Command: /home/biocbuild/R/R/bin/R CMD INSTALL tweeDEseq StartedAt: 2025-10-16 21:13:04 -0000 (Thu, 16 Oct 2025) EndedAt: 2025-10-16 21:13:35 -0000 (Thu, 16 Oct 2025) EllapsedTime: 31.5 seconds RetCode: 0 Status: OK