Package: tweeDEseq Version: 1.55.0 Command: /home/biocbuild/R/R/bin/R CMD check --install=check:tweeDEseq.install-out.txt --library=/home/biocbuild/R/R/site-library --no-vignettes --timings tweeDEseq_1.55.0.tar.gz StartedAt: 2025-10-17 14:46:29 -0000 (Fri, 17 Oct 2025) EndedAt: 2025-10-17 14:47:45 -0000 (Fri, 17 Oct 2025) EllapsedTime: 76.2 seconds RetCode: 0 Status: WARNINGS CheckDir: tweeDEseq.Rcheck Warnings: 1