Package: tweeDEseq Version: 1.55.0 Command: /home/biocbuild/bbs-3.22-bioc/R/bin/R CMD check --install=check:tweeDEseq.install-out.txt --library=/home/biocbuild/bbs-3.22-bioc/R/site-library --timings tweeDEseq_1.55.0.tar.gz StartedAt: 2025-10-20 05:58:47 -0400 (Mon, 20 Oct 2025) EndedAt: 2025-10-20 06:09:15 -0400 (Mon, 20 Oct 2025) EllapsedTime: 628.5 seconds RetCode: 0 Status: WARNINGS CheckDir: tweeDEseq.Rcheck Warnings: 1