Package: ttgsea Version: 1.17.0 Command: /home/biocbuild/R/R/bin/R CMD INSTALL ttgsea StartedAt: 2025-10-20 20:22:41 -0000 (Mon, 20 Oct 2025) EndedAt: 2025-10-20 20:23:05 -0000 (Mon, 20 Oct 2025) EllapsedTime: 24.3 seconds RetCode: 0 Status: OK