Package: ttgsea Version: 1.17.0 Command: /home/biocbuild/R/R/bin/R CMD build --keep-empty-dirs --no-resave-data ttgsea StartedAt: 2025-10-21 03:53:20 -0000 (Tue, 21 Oct 2025) EndedAt: 2025-10-21 03:53:56 -0000 (Tue, 21 Oct 2025) EllapsedTime: 36.0 seconds RetCode: 0 Status: OK PackageFile: ttgsea_1.17.0.tar.gz PackageFileSize: 358.4 KiB