Package: ttgsea Version: 1.17.0 Command: F:\biocbuild\bbs-3.22-bioc\R\bin\R.exe CMD INSTALL ttgsea StartedAt: 2025-08-14 15:32:47 -0400 (Thu, 14 Aug 2025) EndedAt: 2025-08-14 15:33:06 -0400 (Thu, 14 Aug 2025) EllapsedTime: 19.0 seconds RetCode: 0 Status: OK