Package: ttgsea Version: 1.17.0 Command: chmod a+r ttgsea -R && F:\biocbuild\bbs-3.22-bioc\R\bin\R.exe CMD build --keep-empty-dirs --no-resave-data ttgsea StartedAt: 2025-08-14 23:52:59 -0400 (Thu, 14 Aug 2025) EndedAt: 2025-08-14 23:53:48 -0400 (Thu, 14 Aug 2025) EllapsedTime: 49.1 seconds RetCode: 0 Status: OK PackageFile: ttgsea_1.17.0.tar.gz PackageFileSize: 331.5 KiB