Package: ttgsea Version: 1.17.0 Command: /home/biocbuild/bbs-3.22-bioc/R/bin/R CMD INSTALL ttgsea StartedAt: 2025-10-22 15:11:19 -0400 (Wed, 22 Oct 2025) EndedAt: 2025-10-22 15:11:30 -0400 (Wed, 22 Oct 2025) EllapsedTime: 11.1 seconds RetCode: 0 Status: OK