Package: ttgsea Version: 1.17.0 Command: /Library/Frameworks/R.framework/Resources/bin/R CMD INSTALL ttgsea StartedAt: 2025-10-19 15:14:56 -0400 (Sun, 19 Oct 2025) EndedAt: 2025-10-19 15:15:23 -0400 (Sun, 19 Oct 2025) EllapsedTime: 26.4 seconds RetCode: 0 Status: OK