Package: ttgsea Version: 1.17.0 Command: /Library/Frameworks/R.framework/Resources/bin/R CMD check --install=check:ttgsea.install-out.txt --library=/Library/Frameworks/R.framework/Resources/library --no-vignettes --timings ttgsea_1.17.0.tar.gz StartedAt: 2025-07-02 00:18:20 -0400 (Wed, 02 Jul 2025) EndedAt: 2025-07-02 00:21:00 -0400 (Wed, 02 Jul 2025) EllapsedTime: 160.5 seconds RetCode: 0 Status: OK CheckDir: ttgsea.Rcheck Warnings: 0