Package: ttgsea Version: 1.17.0 Command: /Library/Frameworks/R.framework/Resources/bin/R CMD build --keep-empty-dirs --no-resave-data ttgsea StartedAt: 2025-10-19 19:56:31 -0400 (Sun, 19 Oct 2025) EndedAt: 2025-10-19 19:57:38 -0400 (Sun, 19 Oct 2025) EllapsedTime: 66.8 seconds RetCode: 1 Status: ERROR PackageFile: None PackageFileSize: NA