Package: trio Version: 3.48.0 Command: /home/biocbuild/R/R/bin/R CMD INSTALL trio StartedAt: 2025-11-20 22:02:12 -0000 (Thu, 20 Nov 2025) EndedAt: 2025-11-20 22:02:49 -0000 (Thu, 20 Nov 2025) EllapsedTime: 37.0 seconds RetCode: 0 Status: OK