Package: trio Version: 3.48.0 Command: /home/biocbuild/R/R/bin/R CMD check --install=check:trio.install-out.txt --library=/home/biocbuild/R/R/site-library --no-vignettes --timings trio_3.48.0.tar.gz StartedAt: 2025-11-18 16:12:22 -0000 (Tue, 18 Nov 2025) EndedAt: 2025-11-18 16:15:20 -0000 (Tue, 18 Nov 2025) EllapsedTime: 178.2 seconds RetCode: 0 Status: OK CheckDir: trio.Rcheck Warnings: 0