Package: trio Version: 3.47.0 Command: rm -rf trio.buildbin-libdir && mkdir trio.buildbin-libdir && /Users/biocbuild/BBS/utils/build-universal.sh trio_3.47.0.tar.gz /Library/Frameworks/R.framework/Resources/bin/R trio.buildbin-libdir StartedAt: 2025-10-06 23:04:01 -0400 (Mon, 06 Oct 2025) EndedAt: 2025-10-06 23:04:11 -0400 (Mon, 06 Oct 2025) EllapsedTime: 9.1 seconds RetCode: 0 Status: OK PackageFile: trio_3.47.0.tgz PackageFileSize: 1.64 MiB