Package: treeio Version: 1.33.0 Command: /home/biocbuild/R/R/bin/R CMD check --install=check:treeio.install-out.txt --library=/home/biocbuild/R/R/site-library --no-vignettes --timings treeio_1.33.0.tar.gz StartedAt: 2025-10-17 14:39:30 -0000 (Fri, 17 Oct 2025) EndedAt: 2025-10-17 14:41:31 -0000 (Fri, 17 Oct 2025) EllapsedTime: 121.3 seconds RetCode: 0 Status: OK CheckDir: treeio.Rcheck Warnings: 0