Package: treeio Version: 1.33.0 Command: F:\biocbuild\bbs-3.22-bioc\R\bin\R.exe CMD check --no-multiarch --install=check:treeio.install-out.txt --library=F:\biocbuild\bbs-3.22-bioc\R\library --no-vignettes --timings treeio_1.33.0.tar.gz StartedAt: 2025-08-15 08:57:19 -0400 (Fri, 15 Aug 2025) EndedAt: 2025-08-15 08:59:00 -0400 (Fri, 15 Aug 2025) EllapsedTime: 101.1 seconds RetCode: 0 Status: OK CheckDir: treeio.Rcheck Warnings: 0