Package: treeio Version: 1.33.0 Command: /Library/Frameworks/R.framework/Resources/bin/R CMD INSTALL treeio StartedAt: 2025-10-19 15:12:53 -0400 (Sun, 19 Oct 2025) EndedAt: 2025-10-19 15:13:18 -0400 (Sun, 19 Oct 2025) EllapsedTime: 25.9 seconds RetCode: 0 Status: OK