Package: treeclimbR Version: 1.5.1 Command: /home/biocbuild/R/R/bin/R CMD INSTALL treeclimbR StartedAt: 2025-10-16 21:46:51 -0000 (Thu, 16 Oct 2025) EndedAt: 2025-10-16 21:47:41 -0000 (Thu, 16 Oct 2025) EllapsedTime: 50.2 seconds RetCode: 0 Status: OK