Package: treeclimbR Version: 1.5.1 Command: /home/biocbuild/R/R/bin/R CMD build --keep-empty-dirs --no-resave-data treeclimbR StartedAt: 2025-10-17 05:20:03 -0000 (Fri, 17 Oct 2025) EndedAt: 2025-10-17 05:21:38 -0000 (Fri, 17 Oct 2025) EllapsedTime: 95.1 seconds RetCode: 0 Status: OK PackageFile: treeclimbR_1.5.1.tar.gz PackageFileSize: 606.4 KiB