Package: treeclimbR Version: 1.5.1 Command: F:\biocbuild\bbs-3.22-bioc\R\bin\R.exe CMD check --no-multiarch --install=check:treeclimbR.install-out.txt --library=F:\biocbuild\bbs-3.22-bioc\R\library --no-vignettes --timings treeclimbR_1.5.1.tar.gz StartedAt: 2025-08-15 08:56:32 -0400 (Fri, 15 Aug 2025) EndedAt: 2025-08-15 09:04:05 -0400 (Fri, 15 Aug 2025) EllapsedTime: 452.9 seconds RetCode: 0 Status: OK CheckDir: treeclimbR.Rcheck Warnings: 0