############################################################################## ############################################################################## ### ### Running command: ### ### F:\biocbuild\bbs-3.22-bioc\R\bin\R.exe CMD INSTALL traviz ### ############################################################################## ############################################################################## * installing to library 'F:/biocbuild/bbs-3.22-bioc/R/library' * installing *source* package 'traviz' ... ** this is package 'traviz' version '1.15.1' ** using staged installation ** R Error in .install_package_code_files(".", instdir) : files in 'F:/biocbuild/bbs-3.22-bioc/meat/traviz/R' missing from 'Collate' field: zzz.R ERROR: unable to collate and parse R files for package 'traviz' * removing 'F:/biocbuild/bbs-3.22-bioc/R/library/traviz' * restoring previous 'F:/biocbuild/bbs-3.22-bioc/R/library/traviz'