Package: traviz Version: 1.15.0 Command: rm -rf traviz.buildbin-libdir && mkdir traviz.buildbin-libdir && F:\biocbuild\bbs-3.22-bioc\R\bin\R.exe CMD INSTALL --build --library=traviz.buildbin-libdir traviz_1.15.0.tar.gz StartedAt: 2025-07-24 10:25:43 -0400 (Thu, 24 Jul 2025) EndedAt: 2025-07-24 10:26:20 -0400 (Thu, 24 Jul 2025) EllapsedTime: 37.2 seconds RetCode: 0 Status: OK PackageFile: traviz_1.15.0.zip PackageFileSize: 2.003 MiB