Package: traviz Version: 1.15.1 Command: /home/biocbuild/bbs-3.22-bioc/R/bin/R CMD INSTALL traviz StartedAt: 2025-10-19 15:26:06 -0400 (Sun, 19 Oct 2025) EndedAt: 2025-10-19 15:26:07 -0400 (Sun, 19 Oct 2025) EllapsedTime: 1.1 seconds RetCode: 1 Status: ERROR