Package: traviz Version: 1.15.0 Command: /home/biocbuild/bbs-3.22-bioc/R/bin/R CMD check --install=check:traviz.install-out.txt --library=/home/biocbuild/bbs-3.22-bioc/R/site-library --timings traviz_1.15.0.tar.gz StartedAt: 2025-07-24 03:45:38 -0400 (Thu, 24 Jul 2025) EndedAt: 2025-07-24 03:49:35 -0400 (Thu, 24 Jul 2025) EllapsedTime: 237.3 seconds RetCode: 1 Status: ERROR CheckDir: traviz.Rcheck Warnings: NA